Workbook

Sheet Horarias
A1: 01/08/2026 - 31/08/2026
A2: 46026 HORNO DE ALCEDO - VALENCIA
A3: FECHA-HORA | B3: INV / VER | C3: PERIODO TARIFARIO | D3: GENERACION Wh | E3: DÍA SEMANA | F3: FESTIVO NACIONAL | G3: PERIODO P1/P2/P3 | H3: GENERACIÓN P1 Wh | I3: GENERACIÓN P2 Wh | J3: GENERACIÓN P3 Wh
A4: 2026/09/01 01:00 | B4: 1 | C4: Periodo 6 | D4: 0 | E4: =IF($A4="","",CHOOSE(WEEKDAY(INT(DATE(VALUE(LEFT($A4,4)),VALUE(MID($A4,6,2)),VALUE(MID($A4,9,2)))+TIME(VALUE(MID($A4,12,2)),0,0)-1/24),2),"Lunes","Martes","Miércoles","Jueves","Viernes","Sábado","Domingo")) -> Martes | F4: =IF($A4="","",IF(COUNTIF(Festivos!$A$2:$A$50,INT(DATE(VALUE(LEFT($A4,4)),VALUE(MID($A4,6,2)),VALUE(MID($A4,9,2)))+TIME(VALUE(MID($A4,12,2)),0,0)-1/24))>0,"Sí","No")) -> No | G4: =IF($A4="","",IF(OR(WEEKDAY(INT(DATE(VALUE(LEFT($A4,4)),VALUE(MID($A4,6,2)),VALUE(MID($A4,9,2)))+TIME(VALUE(MID($A4,12,2)),0,0)-1/24),2)>5,$F4="Sí"),"P3",IF(OR(AND(HOUR(DATE(VALUE(LEFT($A4,4)),VALUE(MID($A4,6,2)),VALUE(MID($A4,9,2)))+TIME(VALUE(MID($A4,12,2)),0,0)-1/24)>=10,HOUR(DATE(VALUE(LEFT($A4,4)),VALUE(MID($A4,6,2)),VALUE(MID($A4,9,2)))+TIME(VALUE(MID($A4,12,2)),0,0)-1/24)<14),AND(HOUR(DATE(VALUE(LEFT($A4,4)),VALUE(MID($A4,6,2)),VALUE(MID($A4,9,2)))+TIME(VALUE(MID($A4,12,2)),0,0)-1/24)>=18,HOUR(DATE(VALUE(LEFT($A4,4)),VALUE(MID($A4,6,2)),VALUE(MID($A4,9,2)))+TIME(VALUE(MID($A4,12,2)),0,0)-1/24)<22)),"P1",IF(OR(AND(HOUR(DATE(VALUE(LEFT($A4,4)),VALUE(MID($A4,6,2)),VALUE(MID($A4,9,2)))+TIME(VALUE(MID($A4,12,2)),0,0)-1/24)>=8,HOUR(DATE(VALUE(LEFT($A4,4)),VALUE(MID($A4,6,2)),VALUE(MID($A4,9,2)))+TIME(VALUE(MID($A4,12,2)),0,0)-1/24)<10),AND(HOUR(DATE(VALUE(LEFT($A4,4)),VALUE(MID($A4,6,2)),VALUE(MID($A4,9,2)))+TIME(VALUE(MID($A4,12,2)),0,0)-1/24)>=14,HOUR(DATE(VALUE(LEFT($A4,4)),VALUE(MID($A4,6,2)),VALUE(MID($A4,9,2)))+TIME(VALUE(MID($A4,12,2)),0,0)-1/24)<18),AND(HOUR(DATE(VALUE(LEFT($A4,4)),VALUE(MID($A4,6,2)),VALUE(MID($A4,9,2)))+TIME(VALUE(MID($A4,12,2)),0,0)-1/24)>=22,HOUR(DATE(VALUE(LEFT($A4,4)),VALUE(MID($A4,6,2)),VALUE(MID($A4,9,2)))+TIME(VALUE(MID($A4,12,2)),0,0)-1/24)<24)),"P2","P3")))) -> P3 | H4: =IF($A4="","",IF($G4="P1",$D4,0)) -> 0 | I4: =IF($A4="","",IF($G4="P2",$D4,0)) -> 0 | J4: =IF($A4="","",IF($G4="P3",$D4,0)) -> 0
A5: 2026/09/01 02:00 | B5: 1 | C5: Periodo 6 | D5: 0 | E5: =IF($A5="","",CHOOSE(WEEKDAY(INT(DATE(VALUE(LEFT($A5,4)),VALUE(MID($A5,6,2)),VALUE(MID($A5,9,2)))+TIME(VALUE(MID($A5,12,2)),0,0)-1/24),2),"Lunes","Martes","Miércoles","Jueves","Viernes","Sábado","Domingo")) -> Martes | F5: =IF($A5="","",IF(COUNTIF(Festivos!$A$2:$A$50,INT(DATE(VALUE(LEFT($A5,4)),VALUE(MID($A5,6,2)),VALUE(MID($A5,9,2)))+TIME(VALUE(MID($A5,12,2)),0,0)-1/24))>0,"Sí","No")) -> No | G5: =IF($A5="","",IF(OR(WEEKDAY(INT(DATE(VALUE(LEFT($A5,4)),VALUE(MID($A5,6,2)),VALUE(MID($A5,9,2)))+TIME(VALUE(MID($A5,12,2)),0,0)-1/24),2)>5,$F5="Sí"),"P3",IF(OR(AND(HOUR(DATE(VALUE(LEFT($A5,4)),VALUE(MID($A5,6,2)),VALUE(MID($A5,9,2)))+TIME(VALUE(MID($A5,12,2)),0,0)-1/24)>=10,HOUR(DATE(VALUE(LEFT($A5,4)),VALUE(MID($A5,6,2)),VALUE(MID($A5,9,2)))+TIME(VALUE(MID($A5,12,2)),0,0)-1/24)<14),AND(HOUR(DATE(VALUE(LEFT($A5,4)),VALUE(MID($A5,6,2)),VALUE(MID($A5,9,2)))+TIME(VALUE(MID($A5,12,2)),0,0)-1/24)>=18,HOUR(DATE(VALUE(LEFT($A5,4)),VALUE(MID($A5,6,2)),VALUE(MID($A5,9,2)))+TIME(VALUE(MID($A5,12,2)),0,0)-1/24)<22)),"P1",IF(OR(AND(HOUR(DATE(VALUE(LEFT($A5,4)),VALUE(MID($A5,6,2)),VALUE(MID($A5,9,2)))+TIME(VALUE(MID($A5,12,2)),0,0)-1/24)>=8,HOUR(DATE(VALUE(LEFT($A5,4)),VALUE(MID($A5,6,2)),VALUE(MID($A5,9,2)))+TIME(VALUE(MID($A5,12,2)),0,0)-1/24)<10),AND(HOUR(DATE(VALUE(LEFT($A5,4)),VALUE(MID($A5,6,2)),VALUE(MID($A5,9,2)))+TIME(VALUE(MID($A5,12,2)),0,0)-1/24)>=14,HOUR(DATE(VALUE(LEFT($A5,4)),VALUE(MID($A5,6,2)),VALUE(MID($A5,9,2)))+TIME(VALUE(MID($A5,12,2)),0,0)-1/24)<18),AND(HOUR(DATE(VALUE(LEFT($A5,4)),VALUE(MID($A5,6,2)),VALUE(MID($A5,9,2)))+TIME(VALUE(MID($A5,12,2)),0,0)-1/24)>=22,HOUR(DATE(VALUE(LEFT($A5,4)),VALUE(MID($A5,6,2)),VALUE(MID($A5,9,2)))+TIME(VALUE(MID($A5,12,2)),0,0)-1/24)<24)),"P2","P3")))) -> P3 | H5: =IF($A5="","",IF($G5="P1",$D5,0)) -> 0 | I5: =IF($A5="","",IF($G5="P2",$D5,0)) -> 0 | J5: =IF($A5="","",IF($G5="P3",$D5,0)) -> 0
A6: 2026/09/01 03:00 | B6: 1 | C6: Periodo 6 | D6: 0 | E6: =IF($A6="","",CHOOSE(WEEKDAY(INT(DATE(VALUE(LEFT($A6,4)),VALUE(MID($A6,6,2)),VALUE(MID($A6,9,2)))+TIME(VALUE(MID($A6,12,2)),0,0)-1/24),2),"Lunes","Martes","Miércoles","Jueves","Viernes","Sábado","Domingo")) -> Martes | F6: =IF($A6="","",IF(COUNTIF(Festivos!$A$2:$A$50,INT(DATE(VALUE(LEFT($A6,4)),VALUE(MID($A6,6,2)),VALUE(MID($A6,9,2)))+TIME(VALUE(MID($A6,12,2)),0,0)-1/24))>0,"Sí","No")) -> No | G6: =IF($A6="","",IF(OR(WEEKDAY(INT(DATE(VALUE(LEFT($A6,4)),VALUE(MID($A6,6,2)),VALUE(MID($A6,9,2)))+TIME(VALUE(MID($A6,12,2)),0,0)-1/24),2)>5,$F6="Sí"),"P3",IF(OR(AND(HOUR(DATE(VALUE(LEFT($A6,4)),VALUE(MID($A6,6,2)),VALUE(MID($A6,9,2)))+TIME(VALUE(MID($A6,12,2)),0,0)-1/24)>=10,HOUR(DATE(VALUE(LEFT($A6,4)),VALUE(MID($A6,6,2)),VALUE(MID($A6,9,2)))+TIME(VALUE(MID($A6,12,2)),0,0)-1/24)<14),AND(HOUR(DATE(VALUE(LEFT($A6,4)),VALUE(MID($A6,6,2)),VALUE(MID($A6,9,2)))+TIME(VALUE(MID($A6,12,2)),0,0)-1/24)>=18,HOUR(DATE(VALUE(LEFT($A6,4)),VALUE(MID($A6,6,2)),VALUE(MID($A6,9,2)))+TIME(VALUE(MID($A6,12,2)),0,0)-1/24)<22)),"P1",IF(OR(AND(HOUR(DATE(VALUE(LEFT($A6,4)),VALUE(MID($A6,6,2)),VALUE(MID($A6,9,2)))+TIME(VALUE(MID($A6,12,2)),0,0)-1/24)>=8,HOUR(DATE(VALUE(LEFT($A6,4)),VALUE(MID($A6,6,2)),VALUE(MID($A6,9,2)))+TIME(VALUE(MID($A6,12,2)),0,0)-1/24)<10),AND(HOUR(DATE(VALUE(LEFT($A6,4)),VALUE(MID($A6,6,2)),VALUE(MID($A6,9,2)))+TIME(VALUE(MID($A6,12,2)),0,0)-1/24)>=14,HOUR(DATE(VALUE(LEFT($A6,4)),VALUE(MID($A6,6,2)),VALUE(MID($A6,9,2)))+TIME(VALUE(MID($A6,12,2)),0,0)-1/24)<18),AND(HOUR(DATE(VALUE(LEFT($A6,4)),VALUE(MID($A6,6,2)),VALUE(MID($A6,9,2)))+TIME(VALUE(MID($A6,12,2)),0,0)-1/24)>=22,HOUR(DATE(VALUE(LEFT($A6,4)),VALUE(MID($A6,6,2)),VALUE(MID($A6,9,2)))+TIME(VALUE(MID($A6,12,2)),0,0)-1/24)<24)),"P2","P3")))) -> P3 | H6: =IF($A6="","",IF($G6="P1",$D6,0)) -> 0 | I6: =IF($A6="","",IF($G6="P2",$D6,0)) -> 0 | J6: =IF($A6="","",IF($G6="P3",$D6,0)) -> 0
A7: 2026/09/01 04:00 | B7: 1 | C7: Periodo 6 | D7: 0 | E7: =IF($A7="","",CHOOSE(WEEKDAY(INT(DATE(VALUE(LEFT($A7,4)),VALUE(MID($A7,6,2)),VALUE(MID($A7,9,2)))+TIME(VALUE(MID($A7,12,2)),0,0)-1/24),2),"Lunes","Martes","Miércoles","Jueves","Viernes","Sábado","Domingo")) -> Martes | F7: =IF($A7="","",IF(COUNTIF(Festivos!$A$2:$A$50,INT(DATE(VALUE(LEFT($A7,4)),VALUE(MID($A7,6,2)),VALUE(MID($A7,9,2)))+TIME(VALUE(MID($A7,12,2)),0,0)-1/24))>0,"Sí","No")) -> No | G7: =IF($A7="","",IF(OR(WEEKDAY(INT(DATE(VALUE(LEFT($A7,4)),VALUE(MID($A7,6,2)),VALUE(MID($A7,9,2)))+TIME(VALUE(MID($A7,12,2)),0,0)-1/24),2)>5,$F7="Sí"),"P3",IF(OR(AND(HOUR(DATE(VALUE(LEFT($A7,4)),VALUE(MID($A7,6,2)),VALUE(MID($A7,9,2)))+TIME(VALUE(MID($A7,12,2)),0,0)-1/24)>=10,HOUR(DATE(VALUE(LEFT($A7,4)),VALUE(MID($A7,6,2)),VALUE(MID($A7,9,2)))+TIME(VALUE(MID($A7,12,2)),0,0)-1/24)<14),AND(HOUR(DATE(VALUE(LEFT($A7,4)),VALUE(MID($A7,6,2)),VALUE(MID($A7,9,2)))+TIME(VALUE(MID($A7,12,2)),0,0)-1/24)>=18,HOUR(DATE(VALUE(LEFT($A7,4)),VALUE(MID($A7,6,2)),VALUE(MID($A7,9,2)))+TIME(VALUE(MID($A7,12,2)),0,0)-1/24)<22)),"P1",IF(OR(AND(HOUR(DATE(VALUE(LEFT($A7,4)),VALUE(MID($A7,6,2)),VALUE(MID($A7,9,2)))+TIME(VALUE(MID($A7,12,2)),0,0)-1/24)>=8,HOUR(DATE(VALUE(LEFT($A7,4)),VALUE(MID($A7,6,2)),VALUE(MID($A7,9,2)))+TIME(VALUE(MID($A7,12,2)),0,0)-1/24)<10),AND(HOUR(DATE(VALUE(LEFT($A7,4)),VALUE(MID($A7,6,2)),VALUE(MID($A7,9,2)))+TIME(VALUE(MID($A7,12,2)),0,0)-1/24)>=14,HOUR(DATE(VALUE(LEFT($A7,4)),VALUE(MID($A7,6,2)),VALUE(MID($A7,9,2)))+TIME(VALUE(MID($A7,12,2)),0,0)-1/24)<18),AND(HOUR(DATE(VALUE(LEFT($A7,4)),VALUE(MID($A7,6,2)),VALUE(MID($A7,9,2)))+TIME(VALUE(MID($A7,12,2)),0,0)-1/24)>=22,HOUR(DATE(VALUE(LEFT($A7,4)),VALUE(MID($A7,6,2)),VALUE(MID($A7,9,2)))+TIME(VALUE(MID($A7,12,2)),0,0)-1/24)<24)),"P2","P3")))) -> P3 | H7: =IF($A7="","",IF($G7="P1",$D7,0)) -> 0 | I7: =IF($A7="","",IF($G7="P2",$D7,0)) -> 0 | J7: =IF($A7="","",IF($G7="P3",$D7,0)) -> 0
A8: 2026/09/01 05:00 | B8: 1 | C8: Periodo 6 | D8: 0 | E8: =IF($A8="","",CHOOSE(WEEKDAY(INT(DATE(VALUE(LEFT($A8,4)),VALUE(MID($A8,6,2)),VALUE(MID($A8,9,2)))+TIME(VALUE(MID($A8,12,2)),0,0)-1/24),2),"Lunes","Martes","Miércoles","Jueves","Viernes","Sábado","Domingo")) -> Martes | F8: =IF($A8="","",IF(COUNTIF(Festivos!$A$2:$A$50,INT(DATE(VALUE(LEFT($A8,4)),VALUE(MID($A8,6,2)),VALUE(MID($A8,9,2)))+TIME(VALUE(MID($A8,12,2)),0,0)-1/24))>0,"Sí","No")) -> No | G8: =IF($A8="","",IF(OR(WEEKDAY(INT(DATE(VALUE(LEFT($A8,4)),VALUE(MID($A8,6,2)),VALUE(MID($A8,9,2)))+TIME(VALUE(MID($A8,12,2)),0,0)-1/24),2)>5,$F8="Sí"),"P3",IF(OR(AND(HOUR(DATE(VALUE(LEFT($A8,4)),VALUE(MID($A8,6,2)),VALUE(MID($A8,9,2)))+TIME(VALUE(MID($A8,12,2)),0,0)-1/24)>=10,HOUR(DATE(VALUE(LEFT($A8,4)),VALUE(MID($A8,6,2)),VALUE(MID($A8,9,2)))+TIME(VALUE(MID($A8,12,2)),0,0)-1/24)<14),AND(HOUR(DATE(VALUE(LEFT($A8,4)),VALUE(MID($A8,6,2)),VALUE(MID($A8,9,2)))+TIME(VALUE(MID($A8,12,2)),0,0)-1/24)>=18,HOUR(DATE(VALUE(LEFT($A8,4)),VALUE(MID($A8,6,2)),VALUE(MID($A8,9,2)))+TIME(VALUE(MID($A8,12,2)),0,0)-1/24)<22)),"P1",IF(OR(AND(HOUR(DATE(VALUE(LEFT($A8,4)),VALUE(MID($A8,6,2)),VALUE(MID($A8,9,2)))+TIME(VALUE(MID($A8,12,2)),0,0)-1/24)>=8,HOUR(DATE(VALUE(LEFT($A8,4)),VALUE(MID($A8,6,2)),VALUE(MID($A8,9,2)))+TIME(VALUE(MID($A8,12,2)),0,0)-1/24)<10),AND(HOUR(DATE(VALUE(LEFT($A8,4)),VALUE(MID($A8,6,2)),VALUE(MID($A8,9,2)))+TIME(VALUE(MID($A8,12,2)),0,0)-1/24)>=14,HOUR(DATE(VALUE(LEFT($A8,4)),VALUE(MID($A8,6,2)),VALUE(MID($A8,9,2)))+TIME(VALUE(MID($A8,12,2)),0,0)-1/24)<18),AND(HOUR(DATE(VALUE(LEFT($A8,4)),VALUE(MID($A8,6,2)),VALUE(MID($A8,9,2)))+TIME(VALUE(MID($A8,12,2)),0,0)-1/24)>=22,HOUR(DATE(VALUE(LEFT($A8,4)),VALUE(MID($A8,6,2)),VALUE(MID($A8,9,2)))+TIME(VALUE(MID($A8,12,2)),0,0)-1/24)<24)),"P2","P3")))) -> P3 | H8: =IF($A8="","",IF($G8="P1",$D8,0)) -> 0 | I8: =IF($A8="","",IF($G8="P2",$D8,0)) -> 0 | J8: =IF($A8="","",IF($G8="P3",$D8,0)) -> 0
A9: 2026/09/01 06:00 | B9: 1 | C9: Periodo 6 | D9: 0 | E9: =IF($A9="","",CHOOSE(WEEKDAY(INT(DATE(VALUE(LEFT($A9,4)),VALUE(MID($A9,6,2)),VALUE(MID($A9,9,2)))+TIME(VALUE(MID($A9,12,2)),0,0)-1/24),2),"Lunes","Martes","Miércoles","Jueves","Viernes","Sábado","Domingo")) -> Martes | F9: =IF($A9="","",IF(COUNTIF(Festivos!$A$2:$A$50,INT(DATE(VALUE(LEFT($A9,4)),VALUE(MID($A9,6,2)),VALUE(MID($A9,9,2)))+TIME(VALUE(MID($A9,12,2)),0,0)-1/24))>0,"Sí","No")) -> No | G9: =IF($A9="","",IF(OR(WEEKDAY(INT(DATE(VALUE(LEFT($A9,4)),VALUE(MID($A9,6,2)),VALUE(MID($A9,9,2)))+TIME(VALUE(MID($A9,12,2)),0,0)-1/24),2)>5,$F9="Sí"),"P3",IF(OR(AND(HOUR(DATE(VALUE(LEFT($A9,4)),VALUE(MID($A9,6,2)),VALUE(MID($A9,9,2)))+TIME(VALUE(MID($A9,12,2)),0,0)-1/24)>=10,HOUR(DATE(VALUE(LEFT($A9,4)),VALUE(MID($A9,6,2)),VALUE(MID($A9,9,2)))+TIME(VALUE(MID($A9,12,2)),0,0)-1/24)<14),AND(HOUR(DATE(VALUE(LEFT($A9,4)),VALUE(MID($A9,6,2)),VALUE(MID($A9,9,2)))+TIME(VALUE(MID($A9,12,2)),0,0)-1/24)>=18,HOUR(DATE(VALUE(LEFT($A9,4)),VALUE(MID($A9,6,2)),VALUE(MID($A9,9,2)))+TIME(VALUE(MID($A9,12,2)),0,0)-1/24)<22)),"P1",IF(OR(AND(HOUR(DATE(VALUE(LEFT($A9,4)),VALUE(MID($A9,6,2)),VALUE(MID($A9,9,2)))+TIME(VALUE(MID($A9,12,2)),0,0)-1/24)>=8,HOUR(DATE(VALUE(LEFT($A9,4)),VALUE(MID($A9,6,2)),VALUE(MID($A9,9,2)))+TIME(VALUE(MID($A9,12,2)),0,0)-1/24)<10),AND(HOUR(DATE(VALUE(LEFT($A9,4)),VALUE(MID($A9,6,2)),VALUE(MID($A9,9,2)))+TIME(VALUE(MID($A9,12,2)),0,0)-1/24)>=14,HOUR(DATE(VALUE(LEFT($A9,4)),VALUE(MID($A9,6,2)),VALUE(MID($A9,9,2)))+TIME(VALUE(MID($A9,12,2)),0,0)-1/24)<18),AND(HOUR(DATE(VALUE(LEFT($A9,4)),VALUE(MID($A9,6,2)),VALUE(MID($A9,9,2)))+TIME(VALUE(MID($A9,12,2)),0,0)-1/24)>=22,HOUR(DATE(VALUE(LEFT($A9,4)),VALUE(MID($A9,6,2)),VALUE(MID($A9,9,2)))+TIME(VALUE(MID($A9,12,2)),0,0)-1/24)<24)),"P2","P3")))) -> P3 | H9: =IF($A9="","",IF($G9="P1",$D9,0)) -> 0 | I9: =IF($A9="","",IF($G9="P2",$D9,0)) -> 0 | J9: =IF($A9="","",IF($G9="P3",$D9,0)) -> 0
A10: 2026/09/01 07:00 | B10: 1 | C10: Periodo 6 | D10: 0 | E10: =IF($A10="","",CHOOSE(WEEKDAY(INT(DATE(VALUE(LEFT($A10,4)),VALUE(MID($A10,6,2)),VALUE(MID($A10,9,2)))+TIME(VALUE(MID($A10,12,2)),0,0)-1/24),2),"Lunes","Martes","Miércoles","Jueves","Viernes","Sábado","Domingo")) -> Martes | F10: =IF($A10="","",IF(COUNTIF(Festivos!$A$2:$A$50,INT(DATE(VALUE(LEFT($A10,4)),VALUE(MID($A10,6,2)),VALUE(MID($A10,9,2)))+TIME(VALUE(MID($A10,12,2)),0,0)-1/24))>0,"Sí","No")) -> No | G10: =IF($A10="","",IF(OR(WEEKDAY(INT(DATE(VALUE(LEFT($A10,4)),VALUE(MID($A10,6,2)),VALUE(MID($A10,9,2)))+TIME(VALUE(MID($A10,12,2)),0,0)-1/24),2)>5,$F10="Sí"),"P3",IF(OR(AND(HOUR(DATE(VALUE(LEFT($A10,4)),VALUE(MID($A10,6,2)),VALUE(MID($A10,9,2)))+TIME(VALUE(MID($A10,12,2)),0,0)-1/24)>=10,HOUR(DATE(VALUE(LEFT($A10,4)),VALUE(MID($A10,6,2)),VALUE(MID($A10,9,2)))+TIME(VALUE(MID($A10,12,2)),0,0)-1/24)<14),AND(HOUR(DATE(VALUE(LEFT($A10,4)),VALUE(MID($A10,6,2)),VALUE(MID($A10,9,2)))+TIME(VALUE(MID($A10,12,2)),0,0)-1/24)>=18,HOUR(DATE(VALUE(LEFT($A10,4)),VALUE(MID($A10,6,2)),VALUE(MID($A10,9,2)))+TIME(VALUE(MID($A10,12,2)),0,0)-1/24)<22)),"P1",IF(OR(AND(HOUR(DATE(VALUE(LEFT($A10,4)),VALUE(MID($A10,6,2)),VALUE(MID($A10,9,2)))+TIME(VALUE(MID($A10,12,2)),0,0)-1/24)>=8,HOUR(DATE(VALUE(LEFT($A10,4)),VALUE(MID($A10,6,2)),VALUE(MID($A10,9,2)))+TIME(VALUE(MID($A10,12,2)),0,0)-1/24)<10),AND(HOUR(DATE(VALUE(LEFT($A10,4)),VALUE(MID($A10,6,2)),VALUE(MID($A10,9,2)))+TIME(VALUE(MID($A10,12,2)),0,0)-1/24)>=14,HOUR(DATE(VALUE(LEFT($A10,4)),VALUE(MID($A10,6,2)),VALUE(MID($A10,9,2)))+TIME(VALUE(MID($A10,12,2)),0,0)-1/24)<18),AND(HOUR(DATE(VALUE(LEFT($A10,4)),VALUE(MID($A10,6,2)),VALUE(MID($A10,9,2)))+TIME(VALUE(MID($A10,12,2)),0,0)-1/24)>=22,HOUR(DATE(VALUE(LEFT($A10,4)),VALUE(MID($A10,6,2)),VALUE(MID($A10,9,2)))+TIME(VALUE(MID($A10,12,2)),0,0)-1/24)<24)),"P2","P3")))) -> P3 | H10: =IF($A10="","",IF($G10="P1",$D10,0)) -> 0 | I10: =IF($A10="","",IF($G10="P2",$D10,0)) -> 0 | J10: =IF($A10="","",IF($G10="P3",$D10,0)) -> 0
A11: 2026/09/01 08:00 | B11: 1 | C11: Periodo 6 | D11: 400 | E11: =IF($A11="","",CHOOSE(WEEKDAY(INT(DATE(VALUE(LEFT($A11,4)),VALUE(MID($A11,6,2)),VALUE(MID($A11,9,2)))+TIME(VALUE(MID($A11,12,2)),0,0)-1/24),2),"Lunes","Martes","Miércoles","Jueves","Viernes","Sábado","Domingo")) -> Martes | F11: =IF($A11="","",IF(COUNTIF(Festivos!$A$2:$A$50,INT(DATE(VALUE(LEFT($A11,4)),VALUE(MID($A11,6,2)),VALUE(MID($A11,9,2)))+TIME(VALUE(MID($A11,12,2)),0,0)-1/24))>0,"Sí","No")) -> No | G11: =IF($A11="","",IF(OR(WEEKDAY(INT(DATE(VALUE(LEFT($A11,4)),VALUE(MID($A11,6,2)),VALUE(MID($A11,9,2)))+TIME(VALUE(MID($A11,12,2)),0,0)-1/24),2)>5,$F11="Sí"),"P3",IF(OR(AND(HOUR(DATE(VALUE(LEFT($A11,4)),VALUE(MID($A11,6,2)),VALUE(MID($A11,9,2)))+TIME(VALUE(MID($A11,12,2)),0,0)-1/24)>=10,HOUR(DATE(VALUE(LEFT($A11,4)),VALUE(MID($A11,6,2)),VALUE(MID($A11,9,2)))+TIME(VALUE(MID($A11,12,2)),0,0)-1/24)<14),AND(HOUR(DATE(VALUE(LEFT($A11,4)),VALUE(MID($A11,6,2)),VALUE(MID($A11,9,2)))+TIME(VALUE(MID($A11,12,2)),0,0)-1/24)>=18,HOUR(DATE(VALUE(LEFT($A11,4)),VALUE(MID($A11,6,2)),VALUE(MID($A11,9,2)))+TIME(VALUE(MID($A11,12,2)),0,0)-1/24)<22)),"P1",IF(OR(AND(HOUR(DATE(VALUE(LEFT($A11,4)),VALUE(MID($A11,6,2)),VALUE(MID($A11,9,2)))+TIME(VALUE(MID($A11,12,2)),0,0)-1/24)>=8,HOUR(DATE(VALUE(LEFT($A11,4)),VALUE(MID($A11,6,2)),VALUE(MID($A11,9,2)))+TIME(VALUE(MID($A11,12,2)),0,0)-1/24)<10),AND(HOUR(DATE(VALUE(LEFT($A11,4)),VALUE(MID($A11,6,2)),VALUE(MID($A11,9,2)))+TIME(VALUE(MID($A11,12,2)),0,0)-1/24)>=14,HOUR(DATE(VALUE(LEFT($A11,4)),VALUE(MID($A11,6,2)),VALUE(MID($A11,9,2)))+TIME(VALUE(MID($A11,12,2)),0,0)-1/24)<18),AND(HOUR(DATE(VALUE(LEFT($A11,4)),VALUE(MID($A11,6,2)),VALUE(MID($A11,9,2)))+TIME(VALUE(MID($A11,12,2)),0,0)-1/24)>=22,HOUR(DATE(VALUE(LEFT($A11,4)),VALUE(MID($A11,6,2)),VALUE(MID($A11,9,2)))+TIME(VALUE(MID($A11,12,2)),0,0)-1/24)<24)),"P2","P3")))) -> P3 | H11: =IF($A11="","",IF($G11="P1",$D11,0)) -> 0 | I11: =IF($A11="","",IF($G11="P2",$D11,0)) -> 0 | J11: =IF($A11="","",IF($G11="P3",$D11,0)) -> 400
A12: 2026/09/01 09:00 | B12: 1 | C12: Periodo 4 | D12: 8920 | E12: =IF($A12="","",CHOOSE(WEEKDAY(INT(DATE(VALUE(LEFT($A12,4)),VALUE(MID($A12,6,2)),VALUE(MID($A12,9,2)))+TIME(VALUE(MID($A12,12,2)),0,0)-1/24),2),"Lunes","Martes","Miércoles","Jueves","Viernes","Sábado","Domingo")) -> Martes | F12: =IF($A12="","",IF(COUNTIF(Festivos!$A$2:$A$50,INT(DATE(VALUE(LEFT($A12,4)),VALUE(MID($A12,6,2)),VALUE(MID($A12,9,2)))+TIME(VALUE(MID($A12,12,2)),0,0)-1/24))>0,"Sí","No")) -> No | G12: =IF($A12="","",IF(OR(WEEKDAY(INT(DATE(VALUE(LEFT($A12,4)),VALUE(MID($A12,6,2)),VALUE(MID($A12,9,2)))+TIME(VALUE(MID($A12,12,2)),0,0)-1/24),2)>5,$F12="Sí"),"P3",IF(OR(AND(HOUR(DATE(VALUE(LEFT($A12,4)),VALUE(MID($A12,6,2)),VALUE(MID($A12,9,2)))+TIME(VALUE(MID($A12,12,2)),0,0)-1/24)>=10,HOUR(DATE(VALUE(LEFT($A12,4)),VALUE(MID($A12,6,2)),VALUE(MID($A12,9,2)))+TIME(VALUE(MID($A12,12,2)),0,0)-1/24)<14),AND(HOUR(DATE(VALUE(LEFT($A12,4)),VALUE(MID($A12,6,2)),VALUE(MID($A12,9,2)))+TIME(VALUE(MID($A12,12,2)),0,0)-1/24)>=18,HOUR(DATE(VALUE(LEFT($A12,4)),VALUE(MID($A12,6,2)),VALUE(MID($A12,9,2)))+TIME(VALUE(MID($A12,12,2)),0,0)-1/24)<22)),"P1",IF(OR(AND(HOUR(DATE(VALUE(LEFT($A12,4)),VALUE(MID($A12,6,2)),VALUE(MID($A12,9,2)))+TIME(VALUE(MID($A12,12,2)),0,0)-1/24)>=8,HOUR(DATE(VALUE(LEFT($A12,4)),VALUE(MID($A12,6,2)),VALUE(MID($A12,9,2)))+TIME(VALUE(MID($A12,12,2)),0,0)-1/24)<10),AND(HOUR(DATE(VALUE(LEFT($A12,4)),VALUE(MID($A12,6,2)),VALUE(MID($A12,9,2)))+TIME(VALUE(MID($A12,12,2)),0,0)-1/24)>=14,HOUR(DATE(VALUE(LEFT($A12,4)),VALUE(MID($A12,6,2)),VALUE(MID($A12,9,2)))+TIME(VALUE(MID($A12,12,2)),0,0)-1/24)<18),AND(HOUR(DATE(VALUE(LEFT($A12,4)),VALUE(MID($A12,6,2)),VALUE(MID($A12,9,2)))+TIME(VALUE(MID($A12,12,2)),0,0)-1/24)>=22,HOUR(DATE(VALUE(LEFT($A12,4)),VALUE(MID($A12,6,2)),VALUE(MID($A12,9,2)))+TIME(VALUE(MID($A12,12,2)),0,0)-1/24)<24)),"P2","P3")))) -> P2 | H12: =IF($A12="","",IF($G12="P1",$D12,0)) -> 0 | I12: =IF($A12="","",IF($G12="P2",$D12,0)) -> 8920 | J12: =IF($A12="","",IF($G12="P3",$D12,0)) -> 0
A13: 2026/09/01 10:00 | B13: 1 | C13: Periodo 3 | D13: 17680 | E13: =IF($A13="","",CHOOSE(WEEKDAY(INT(DATE(VALUE(LEFT($A13,4)),VALUE(MID($A13,6,2)),VALUE(MID($A13,9,2)))+TIME(VALUE(MID($A13,12,2)),0,0)-1/24),2),"Lunes","Martes","Miércoles","Jueves","Viernes","Sábado","Domingo")) -> Martes | F13: =IF($A13="","",IF(COUNTIF(Festivos!$A$2:$A$50,INT(DATE(VALUE(LEFT($A13,4)),VALUE(MID($A13,6,2)),VALUE(MID($A13,9,2)))+TIME(VALUE(MID($A13,12,2)),0,0)-1/24))>0,"Sí","No")) -> No | G13: =IF($A13="","",IF(OR(WEEKDAY(INT(DATE(VALUE(LEFT($A13,4)),VALUE(MID($A13,6,2)),VALUE(MID($A13,9,2)))+TIME(VALUE(MID($A13,12,2)),0,0)-1/24),2)>5,$F13="Sí"),"P3",IF(OR(AND(HOUR(DATE(VALUE(LEFT($A13,4)),VALUE(MID($A13,6,2)),VALUE(MID($A13,9,2)))+TIME(VALUE(MID($A13,12,2)),0,0)-1/24)>=10,HOUR(DATE(VALUE(LEFT($A13,4)),VALUE(MID($A13,6,2)),VALUE(MID($A13,9,2)))+TIME(VALUE(MID($A13,12,2)),0,0)-1/24)<14),AND(HOUR(DATE(VALUE(LEFT($A13,4)),VALUE(MID($A13,6,2)),VALUE(MID($A13,9,2)))+TIME(VALUE(MID($A13,12,2)),0,0)-1/24)>=18,HOUR(DATE(VALUE(LEFT($A13,4)),VALUE(MID($A13,6,2)),VALUE(MID($A13,9,2)))+TIME(VALUE(MID($A13,12,2)),0,0)-1/24)<22)),"P1",IF(OR(AND(HOUR(DATE(VALUE(LEFT($A13,4)),VALUE(MID($A13,6,2)),VALUE(MID($A13,9,2)))+TIME(VALUE(MID($A13,12,2)),0,0)-1/24)>=8,HOUR(DATE(VALUE(LEFT($A13,4)),VALUE(MID($A13,6,2)),VALUE(MID($A13,9,2)))+TIME(VALUE(MID($A13,12,2)),0,0)-1/24)<10),AND(HOUR(DATE(VALUE(LEFT($A13,4)),VALUE(MID($A13,6,2)),VALUE(MID($A13,9,2)))+TIME(VALUE(MID($A13,12,2)),0,0)-1/24)>=14,HOUR(DATE(VALUE(LEFT($A13,4)),VALUE(MID($A13,6,2)),VALUE(MID($A13,9,2)))+TIME(VALUE(MID($A13,12,2)),0,0)-1/24)<18),AND(HOUR(DATE(VALUE(LEFT($A13,4)),VALUE(MID($A13,6,2)),VALUE(MID($A13,9,2)))+TIME(VALUE(MID($A13,12,2)),0,0)-1/24)>=22,HOUR(DATE(VALUE(LEFT($A13,4)),VALUE(MID($A13,6,2)),VALUE(MID($A13,9,2)))+TIME(VALUE(MID($A13,12,2)),0,0)-1/24)<24)),"P2","P3")))) -> P2 | H13: =IF($A13="","",IF($G13="P1",$D13,0)) -> 0 | I13: =IF($A13="","",IF($G13="P2",$D13,0)) -> 17680 | J13: =IF($A13="","",IF($G13="P3",$D13,0)) -> 0
A14: 2026/09/01 11:00 | B14: 1 | C14: Periodo 3 | D14: 21000 | E14: =IF($A14="","",CHOOSE(WEEKDAY(INT(DATE(VALUE(LEFT($A14,4)),VALUE(MID($A14,6,2)),VALUE(MID($A14,9,2)))+TIME(VALUE(MID($A14,12,2)),0,0)-1/24),2),"Lunes","Martes","Miércoles","Jueves","Viernes","Sábado","Domingo")) -> Martes | F14: =IF($A14="","",IF(COUNTIF(Festivos!$A$2:$A$50,INT(DATE(VALUE(LEFT($A14,4)),VALUE(MID($A14,6,2)),VALUE(MID($A14,9,2)))+TIME(VALUE(MID($A14,12,2)),0,0)-1/24))>0,"Sí","No")) -> No | G14: =IF($A14="","",IF(OR(WEEKDAY(INT(DATE(VALUE(LEFT($A14,4)),VALUE(MID($A14,6,2)),VALUE(MID($A14,9,2)))+TIME(VALUE(MID($A14,12,2)),0,0)-1/24),2)>5,$F14="Sí"),"P3",IF(OR(AND(HOUR(DATE(VALUE(LEFT($A14,4)),VALUE(MID($A14,6,2)),VALUE(MID($A14,9,2)))+TIME(VALUE(MID($A14,12,2)),0,0)-1/24)>=10,HOUR(DATE(VALUE(LEFT($A14,4)),VALUE(MID($A14,6,2)),VALUE(MID($A14,9,2)))+TIME(VALUE(MID($A14,12,2)),0,0)-1/24)<14),AND(HOUR(DATE(VALUE(LEFT($A14,4)),VALUE(MID($A14,6,2)),VALUE(MID($A14,9,2)))+TIME(VALUE(MID($A14,12,2)),0,0)-1/24)>=18,HOUR(DATE(VALUE(LEFT($A14,4)),VALUE(MID($A14,6,2)),VALUE(MID($A14,9,2)))+TIME(VALUE(MID($A14,12,2)),0,0)-1/24)<22)),"P1",IF(OR(AND(HOUR(DATE(VALUE(LEFT($A14,4)),VALUE(MID($A14,6,2)),VALUE(MID($A14,9,2)))+TIME(VALUE(MID($A14,12,2)),0,0)-1/24)>=8,HOUR(DATE(VALUE(LEFT($A14,4)),VALUE(MID($A14,6,2)),VALUE(MID($A14,9,2)))+TIME(VALUE(MID($A14,12,2)),0,0)-1/24)<10),AND(HOUR(DATE(VALUE(LEFT($A14,4)),VALUE(MID($A14,6,2)),VALUE(MID($A14,9,2)))+TIME(VALUE(MID($A14,12,2)),0,0)-1/24)>=14,HOUR(DATE(VALUE(LEFT($A14,4)),VALUE(MID($A14,6,2)),VALUE(MID($A14,9,2)))+TIME(VALUE(MID($A14,12,2)),0,0)-1/24)<18),AND(HOUR(DATE(VALUE(LEFT($A14,4)),VALUE(MID($A14,6,2)),VALUE(MID($A14,9,2)))+TIME(VALUE(MID($A14,12,2)),0,0)-1/24)>=22,HOUR(DATE(VALUE(LEFT($A14,4)),VALUE(MID($A14,6,2)),VALUE(MID($A14,9,2)))+TIME(VALUE(MID($A14,12,2)),0,0)-1/24)<24)),"P2","P3")))) -> P1 | H14: =IF($A14="","",IF($G14="P1",$D14,0)) -> 21000 | I14: =IF($A14="","",IF($G14="P2",$D14,0)) -> 0 | J14: =IF($A14="","",IF($G14="P3",$D14,0)) -> 0
A15: 2026/09/01 12:00 | B15: 1 | C15: Periodo 3 | D15: 36240 | E15: =IF($A15="","",CHOOSE(WEEKDAY(INT(DATE(VALUE(LEFT($A15,4)),VALUE(MID($A15,6,2)),VALUE(MID($A15,9,2)))+TIME(VALUE(MID($A15,12,2)),0,0)-1/24),2),"Lunes","Martes","Miércoles","Jueves","Viernes","Sábado","Domingo")) -> Martes | F15: =IF($A15="","",IF(COUNTIF(Festivos!$A$2:$A$50,INT(DATE(VALUE(LEFT($A15,4)),VALUE(MID($A15,6,2)),VALUE(MID($A15,9,2)))+TIME(VALUE(MID($A15,12,2)),0,0)-1/24))>0,"Sí","No")) -> No | G15: =IF($A15="","",IF(OR(WEEKDAY(INT(DATE(VALUE(LEFT($A15,4)),VALUE(MID($A15,6,2)),VALUE(MID($A15,9,2)))+TIME(VALUE(MID($A15,12,2)),0,0)-1/24),2)>5,$F15="Sí"),"P3",IF(OR(AND(HOUR(DATE(VALUE(LEFT($A15,4)),VALUE(MID($A15,6,2)),VALUE(MID($A15,9,2)))+TIME(VALUE(MID($A15,12,2)),0,0)-1/24)>=10,HOUR(DATE(VALUE(LEFT($A15,4)),VALUE(MID($A15,6,2)),VALUE(MID($A15,9,2)))+TIME(VALUE(MID($A15,12,2)),0,0)-1/24)<14),AND(HOUR(DATE(VALUE(LEFT($A15,4)),VALUE(MID($A15,6,2)),VALUE(MID($A15,9,2)))+TIME(VALUE(MID($A15,12,2)),0,0)-1/24)>=18,HOUR(DATE(VALUE(LEFT($A15,4)),VALUE(MID($A15,6,2)),VALUE(MID($A15,9,2)))+TIME(VALUE(MID($A15,12,2)),0,0)-1/24)<22)),"P1",IF(OR(AND(HOUR(DATE(VALUE(LEFT($A15,4)),VALUE(MID($A15,6,2)),VALUE(MID($A15,9,2)))+TIME(VALUE(MID($A15,12,2)),0,0)-1/24)>=8,HOUR(DATE(VALUE(LEFT($A15,4)),VALUE(MID($A15,6,2)),VALUE(MID($A15,9,2)))+TIME(VALUE(MID($A15,12,2)),0,0)-1/24)<10),AND(HOUR(DATE(VALUE(LEFT($A15,4)),VALUE(MID($A15,6,2)),VALUE(MID($A15,9,2)))+TIME(VALUE(MID($A15,12,2)),0,0)-1/24)>=14,HOUR(DATE(VALUE(LEFT($A15,4)),VALUE(MID($A15,6,2)),VALUE(MID($A15,9,2)))+TIME(VALUE(MID($A15,12,2)),0,0)-1/24)<18),AND(HOUR(DATE(VALUE(LEFT($A15,4)),VALUE(MID($A15,6,2)),VALUE(MID($A15,9,2)))+TIME(VALUE(MID($A15,12,2)),0,0)-1/24)>=22,HOUR(DATE(VALUE(LEFT($A15,4)),VALUE(MID($A15,6,2)),VALUE(MID($A15,9,2)))+TIME(VALUE(MID($A15,12,2)),0,0)-1/24)<24)),"P2","P3")))) -> P1 | H15: =IF($A15="","",IF($G15="P1",$D15,0)) -> 36240 | I15: =IF($A15="","",IF($G15="P2",$D15,0)) -> 0 | J15: =IF($A15="","",IF($G15="P3",$D15,0)) -> 0
... A723: 2026/10/01 00:00 | B723: 1 | C723: Periodo 4 | D723: 0 | E723: =IF($A723="","",CHOOSE(WEEKDAY(INT(DATE(VALUE(LEFT($A723,4)),VALUE(MID($A723,6,2)),VALUE(MID($A723,9,2)))+TIME(VALUE(MID($A723,12,2)),0,0)-1/24),2),"Lunes","Martes","Miércoles","Jueves","Viernes","Sábado","Domingo")) -> Miércoles | F723: =IF($A723="","",IF(COUNTIF(Festivos!$A$2:$A$50,INT(DATE(VALUE(LEFT($A723,4)),VALUE(MID($A723,6,2)),VALUE(MID($A723,9,2)))+TIME(VALUE(MID($A723,12,2)),0,0)-1/24))>0,"Sí","No")) -> No | G723: =IF($A723="","",IF(OR(WEEKDAY(INT(DATE(VALUE(LEFT($A723,4)),VALUE(MID($A723,6,2)),VALUE(MID($A723,9,2)))+TIME(VALUE(MID($A723,12,2)),0,0)-1/24),2)>5,$F723="Sí"),"P3",IF(OR(AND(HOUR(DATE(VALUE(LEFT($A723,4)),VALUE(MID($A723,6,2)),VALUE(MID($A723,9,2)))+TIME(VALUE(MID($A723,12,2)),0,0)-1/24)>=10,HOUR(DATE(VALUE(LEFT($A723,4)),VALUE(MID($A723,6,2)),VALUE(MID($A723,9,2)))+TIME(VALUE(MID($A723,12,2)),0,0)-1/24)<14),AND(HOUR(DATE(VALUE(LEFT($A723,4)),VALUE(MID($A723,6,2)),VALUE(MID($A723,9,2)))+TIME(VALUE(MID($A723,12,2)),0,0)-1/24)>=18,HOUR(DATE(VALUE(LEFT($A723,4)),VALUE(MID($A723,6,2)),VALUE(MID($A723,9,2)))+TIME(VALUE(MID($A723,12,2)),0,0)-1/24)<22)),"P1",IF(OR(AND(HOUR(DATE(VALUE(LEFT($A723,4)),VALUE(MID($A723,6,2)),VALUE(MID($A723,9,2)))+TIME(VALUE(MID($A723,12,2)),0,0)-1/24)>=8,HOUR(DATE(VALUE(LEFT($A723,4)),VALUE(MID($A723,6,2)),VALUE(MID($A723,9,2)))+TIME(VALUE(MID($A723,12,2)),0,0)-1/24)<10),AND(HOUR(DATE(VALUE(LEFT($A723,4)),VALUE(MID($A723,6,2)),VALUE(MID($A723,9,2)))+TIME(VALUE(MID($A723,12,2)),0,0)-1/24)>=14,HOUR(DATE(VALUE(LEFT($A723,4)),VALUE(MID($A723,6,2)),VALUE(MID($A723,9,2)))+TIME(VALUE(MID($A723,12,2)),0,0)-1/24)<18),AND(HOUR(DATE(VALUE(LEFT($A723,4)),VALUE(MID($A723,6,2)),VALUE(MID($A723,9,2)))+TIME(VALUE(MID($A723,12,2)),0,0)-1/24)>=22,HOUR(DATE(VALUE(LEFT($A723,4)),VALUE(MID($A723,6,2)),VALUE(MID($A723,9,2)))+TIME(VALUE(MID($A723,12,2)),0,0)-1/24)<24)),"P2","P3")))) -> P2 | H723: =IF($A723="","",IF($G723="P1",$D723,0)) -> 0 | I723: =IF($A723="","",IF($G723="P2",$D723,0)) -> 0 | J723: =IF($A723="","",IF($G723="P3",$D723,0)) -> 0
E724: =IF($A724="","",CHOOSE(WEEKDAY(INT(DATE(VALUE(LEFT($A724,4)),VALUE(MID($A724,6,2)),VALUE(MID($A724,9,2)))+TIME(VALUE(MID($A724,12,2)),0,0)-1/24),2),"Lunes","Martes","Miércoles","Jueves","Viernes","Sábado","Domingo")) | F724: =IF($A724="","",IF(COUNTIF(Festivos!$A$2:$A$50,INT(DATE(VALUE(LEFT($A724,4)),VALUE(MID($A724,6,2)),VALUE(MID($A724,9,2)))+TIME(VALUE(MID($A724,12,2)),0,0)-1/24))>0,"Sí","No")) | G724: =IF($A724="","",IF(OR(WEEKDAY(INT(DATE(VALUE(LEFT($A724,4)),VALUE(MID($A724,6,2)),VALUE(MID($A724,9,2)))+TIME(VALUE(MID($A724,12,2)),0,0)-1/24),2)>5,$F724="Sí"),"P3",IF(OR(AND(HOUR(DATE(VALUE(LEFT($A724,4)),VALUE(MID($A724,6,2)),VALUE(MID($A724,9,2)))+TIME(VALUE(MID($A724,12,2)),0,0)-1/24)>=10,HOUR(DATE(VALUE(LEFT($A724,4)),VALUE(MID($A724,6,2)),VALUE(MID($A724,9,2)))+TIME(VALUE(MID($A724,12,2)),0,0)-1/24)<14),AND(HOUR(DATE(VALUE(LEFT($A724,4)),VALUE(MID($A724,6,2)),VALUE(MID($A724,9,2)))+TIME(VALUE(MID($A724,12,2)),0,0)-1/24)>=18,HOUR(DATE(VALUE(LEFT($A724,4)),VALUE(MID($A724,6,2)),VALUE(MID($A724,9,2)))+TIME(VALUE(MID($A724,12,2)),0,0)-1/24)<22)),"P1",IF(OR(AND(HOUR(DATE(VALUE(LEFT($A724,4)),VALUE(MID($A724,6,2)),VALUE(MID($A724,9,2)))+TIME(VALUE(MID($A724,12,2)),0,0)-1/24)>=8,HOUR(DATE(VALUE(LEFT($A724,4)),VALUE(MID($A724,6,2)),VALUE(MID($A724,9,2)))+TIME(VALUE(MID($A724,12,2)),0,0)-1/24)<10),AND(HOUR(DATE(VALUE(LEFT($A724,4)),VALUE(MID($A724,6,2)),VALUE(MID($A724,9,2)))+TIME(VALUE(MID($A724,12,2)),0,0)-1/24)>=14,HOUR(DATE(VALUE(LEFT($A724,4)),VALUE(MID($A724,6,2)),VALUE(MID($A724,9,2)))+TIME(VALUE(MID($A724,12,2)),0,0)-1/24)<18),AND(HOUR(DATE(VALUE(LEFT($A724,4)),VALUE(MID($A724,6,2)),VALUE(MID($A724,9,2)))+TIME(VALUE(MID($A724,12,2)),0,0)-1/24)>=22,HOUR(DATE(VALUE(LEFT($A724,4)),VALUE(MID($A724,6,2)),VALUE(MID($A724,9,2)))+TIME(VALUE(MID($A724,12,2)),0,0)-1/24)<24)),"P2","P3")))) | H724: =IF($A724="","",IF($G724="P1",$D724,0)) | I724: =IF($A724="","",IF($G724="P2",$D724,0)) | J724: =IF($A724="","",IF($G724="P3",$D724,0))
E725: =IF($A725="","",CHOOSE(WEEKDAY(INT(DATE(VALUE(LEFT($A725,4)),VALUE(MID($A725,6,2)),VALUE(MID($A725,9,2)))+TIME(VALUE(MID($A725,12,2)),0,0)-1/24),2),"Lunes","Martes","Miércoles","Jueves","Viernes","Sábado","Domingo")) | F725: =IF($A725="","",IF(COUNTIF(Festivos!$A$2:$A$50,INT(DATE(VALUE(LEFT($A725,4)),VALUE(MID($A725,6,2)),VALUE(MID($A725,9,2)))+TIME(VALUE(MID($A725,12,2)),0,0)-1/24))>0,"Sí","No")) | G725: =IF($A725="","",IF(OR(WEEKDAY(INT(DATE(VALUE(LEFT($A725,4)),VALUE(MID($A725,6,2)),VALUE(MID($A725,9,2)))+TIME(VALUE(MID($A725,12,2)),0,0)-1/24),2)>5,$F725="Sí"),"P3",IF(OR(AND(HOUR(DATE(VALUE(LEFT($A725,4)),VALUE(MID($A725,6,2)),VALUE(MID($A725,9,2)))+TIME(VALUE(MID($A725,12,2)),0,0)-1/24)>=10,HOUR(DATE(VALUE(LEFT($A725,4)),VALUE(MID($A725,6,2)),VALUE(MID($A725,9,2)))+TIME(VALUE(MID($A725,12,2)),0,0)-1/24)<14),AND(HOUR(DATE(VALUE(LEFT($A725,4)),VALUE(MID($A725,6,2)),VALUE(MID($A725,9,2)))+TIME(VALUE(MID($A725,12,2)),0,0)-1/24)>=18,HOUR(DATE(VALUE(LEFT($A725,4)),VALUE(MID($A725,6,2)),VALUE(MID($A725,9,2)))+TIME(VALUE(MID($A725,12,2)),0,0)-1/24)<22)),"P1",IF(OR(AND(HOUR(DATE(VALUE(LEFT($A725,4)),VALUE(MID($A725,6,2)),VALUE(MID($A725,9,2)))+TIME(VALUE(MID($A725,12,2)),0,0)-1/24)>=8,HOUR(DATE(VALUE(LEFT($A725,4)),VALUE(MID($A725,6,2)),VALUE(MID($A725,9,2)))+TIME(VALUE(MID($A725,12,2)),0,0)-1/24)<10),AND(HOUR(DATE(VALUE(LEFT($A725,4)),VALUE(MID($A725,6,2)),VALUE(MID($A725,9,2)))+TIME(VALUE(MID($A725,12,2)),0,0)-1/24)>=14,HOUR(DATE(VALUE(LEFT($A725,4)),VALUE(MID($A725,6,2)),VALUE(MID($A725,9,2)))+TIME(VALUE(MID($A725,12,2)),0,0)-1/24)<18),AND(HOUR(DATE(VALUE(LEFT($A725,4)),VALUE(MID($A725,6,2)),VALUE(MID($A725,9,2)))+TIME(VALUE(MID($A725,12,2)),0,0)-1/24)>=22,HOUR(DATE(VALUE(LEFT($A725,4)),VALUE(MID($A725,6,2)),VALUE(MID($A725,9,2)))+TIME(VALUE(MID($A725,12,2)),0,0)-1/24)<24)),"P2","P3")))) | H725: =IF($A725="","",IF($G725="P1",$D725,0)) | I725: =IF($A725="","",IF($G725="P2",$D725,0)) | J725: =IF($A725="","",IF($G725="P3",$D725,0))
E726: =IF($A726="","",CHOOSE(WEEKDAY(INT(DATE(VALUE(LEFT($A726,4)),VALUE(MID($A726,6,2)),VALUE(MID($A726,9,2)))+TIME(VALUE(MID($A726,12,2)),0,0)-1/24),2),"Lunes","Martes","Miércoles","Jueves","Viernes","Sábado","Domingo")) | F726: =IF($A726="","",IF(COUNTIF(Festivos!$A$2:$A$50,INT(DATE(VALUE(LEFT($A726,4)),VALUE(MID($A726,6,2)),VALUE(MID($A726,9,2)))+TIME(VALUE(MID($A726,12,2)),0,0)-1/24))>0,"Sí","No")) | G726: =IF($A726="","",IF(OR(WEEKDAY(INT(DATE(VALUE(LEFT($A726,4)),VALUE(MID($A726,6,2)),VALUE(MID($A726,9,2)))+TIME(VALUE(MID($A726,12,2)),0,0)-1/24),2)>5,$F726="Sí"),"P3",IF(OR(AND(HOUR(DATE(VALUE(LEFT($A726,4)),VALUE(MID($A726,6,2)),VALUE(MID($A726,9,2)))+TIME(VALUE(MID($A726,12,2)),0,0)-1/24)>=10,HOUR(DATE(VALUE(LEFT($A726,4)),VALUE(MID($A726,6,2)),VALUE(MID($A726,9,2)))+TIME(VALUE(MID($A726,12,2)),0,0)-1/24)<14),AND(HOUR(DATE(VALUE(LEFT($A726,4)),VALUE(MID($A726,6,2)),VALUE(MID($A726,9,2)))+TIME(VALUE(MID($A726,12,2)),0,0)-1/24)>=18,HOUR(DATE(VALUE(LEFT($A726,4)),VALUE(MID($A726,6,2)),VALUE(MID($A726,9,2)))+TIME(VALUE(MID($A726,12,2)),0,0)-1/24)<22)),"P1",IF(OR(AND(HOUR(DATE(VALUE(LEFT($A726,4)),VALUE(MID($A726,6,2)),VALUE(MID($A726,9,2)))+TIME(VALUE(MID($A726,12,2)),0,0)-1/24)>=8,HOUR(DATE(VALUE(LEFT($A726,4)),VALUE(MID($A726,6,2)),VALUE(MID($A726,9,2)))+TIME(VALUE(MID($A726,12,2)),0,0)-1/24)<10),AND(HOUR(DATE(VALUE(LEFT($A726,4)),VALUE(MID($A726,6,2)),VALUE(MID($A726,9,2)))+TIME(VALUE(MID($A726,12,2)),0,0)-1/24)>=14,HOUR(DATE(VALUE(LEFT($A726,4)),VALUE(MID($A726,6,2)),VALUE(MID($A726,9,2)))+TIME(VALUE(MID($A726,12,2)),0,0)-1/24)<18),AND(HOUR(DATE(VALUE(LEFT($A726,4)),VALUE(MID($A726,6,2)),VALUE(MID($A726,9,2)))+TIME(VALUE(MID($A726,12,2)),0,0)-1/24)>=22,HOUR(DATE(VALUE(LEFT($A726,4)),VALUE(MID($A726,6,2)),VALUE(MID($A726,9,2)))+TIME(VALUE(MID($A726,12,2)),0,0)-1/24)<24)),"P2","P3")))) | H726: =IF($A726="","",IF($G726="P1",$D726,0)) | I726: =IF($A726="","",IF($G726="P2",$D726,0)) | J726: =IF($A726="","",IF($G726="P3",$D726,0))
E727: =IF($A727="","",CHOOSE(WEEKDAY(INT(DATE(VALUE(LEFT($A727,4)),VALUE(MID($A727,6,2)),VALUE(MID($A727,9,2)))+TIME(VALUE(MID($A727,12,2)),0,0)-1/24),2),"Lunes","Martes","Miércoles","Jueves","Viernes","Sábado","Domingo")) | F727: =IF($A727="","",IF(COUNTIF(Festivos!$A$2:$A$50,INT(DATE(VALUE(LEFT($A727,4)),VALUE(MID($A727,6,2)),VALUE(MID($A727,9,2)))+TIME(VALUE(MID($A727,12,2)),0,0)-1/24))>0,"Sí","No")) | G727: =IF($A727="","",IF(OR(WEEKDAY(INT(DATE(VALUE(LEFT($A727,4)),VALUE(MID($A727,6,2)),VALUE(MID($A727,9,2)))+TIME(VALUE(MID($A727,12,2)),0,0)-1/24),2)>5,$F727="Sí"),"P3",IF(OR(AND(HOUR(DATE(VALUE(LEFT($A727,4)),VALUE(MID($A727,6,2)),VALUE(MID($A727,9,2)))+TIME(VALUE(MID($A727,12,2)),0,0)-1/24)>=10,HOUR(DATE(VALUE(LEFT($A727,4)),VALUE(MID($A727,6,2)),VALUE(MID($A727,9,2)))+TIME(VALUE(MID($A727,12,2)),0,0)-1/24)<14),AND(HOUR(DATE(VALUE(LEFT($A727,4)),VALUE(MID($A727,6,2)),VALUE(MID($A727,9,2)))+TIME(VALUE(MID($A727,12,2)),0,0)-1/24)>=18,HOUR(DATE(VALUE(LEFT($A727,4)),VALUE(MID($A727,6,2)),VALUE(MID($A727,9,2)))+TIME(VALUE(MID($A727,12,2)),0,0)-1/24)<22)),"P1",IF(OR(AND(HOUR(DATE(VALUE(LEFT($A727,4)),VALUE(MID($A727,6,2)),VALUE(MID($A727,9,2)))+TIME(VALUE(MID($A727,12,2)),0,0)-1/24)>=8,HOUR(DATE(VALUE(LEFT($A727,4)),VALUE(MID($A727,6,2)),VALUE(MID($A727,9,2)))+TIME(VALUE(MID($A727,12,2)),0,0)-1/24)<10),AND(HOUR(DATE(VALUE(LEFT($A727,4)),VALUE(MID($A727,6,2)),VALUE(MID($A727,9,2)))+TIME(VALUE(MID($A727,12,2)),0,0)-1/24)>=14,HOUR(DATE(VALUE(LEFT($A727,4)),VALUE(MID($A727,6,2)),VALUE(MID($A727,9,2)))+TIME(VALUE(MID($A727,12,2)),0,0)-1/24)<18),AND(HOUR(DATE(VALUE(LEFT($A727,4)),VALUE(MID($A727,6,2)),VALUE(MID($A727,9,2)))+TIME(VALUE(MID($A727,12,2)),0,0)-1/24)>=22,HOUR(DATE(VALUE(LEFT($A727,4)),VALUE(MID($A727,6,2)),VALUE(MID($A727,9,2)))+TIME(VALUE(MID($A727,12,2)),0,0)-1/24)<24)),"P2","P3")))) | H727: =IF($A727="","",IF($G727="P1",$D727,0)) | I727: =IF($A727="","",IF($G727="P2",$D727,0)) | J727: =IF($A727="","",IF($G727="P3",$D727,0))
E728: =IF($A728="","",CHOOSE(WEEKDAY(INT(DATE(VALUE(LEFT($A728,4)),VALUE(MID($A728,6,2)),VALUE(MID($A728,9,2)))+TIME(VALUE(MID($A728,12,2)),0,0)-1/24),2),"Lunes","Martes","Miércoles","Jueves","Viernes","Sábado","Domingo")) | F728: =IF($A728="","",IF(COUNTIF(Festivos!$A$2:$A$50,INT(DATE(VALUE(LEFT($A728,4)),VALUE(MID($A728,6,2)),VALUE(MID($A728,9,2)))+TIME(VALUE(MID($A728,12,2)),0,0)-1/24))>0,"Sí","No")) | G728: =IF($A728="","",IF(OR(WEEKDAY(INT(DATE(VALUE(LEFT($A728,4)),VALUE(MID($A728,6,2)),VALUE(MID($A728,9,2)))+TIME(VALUE(MID($A728,12,2)),0,0)-1/24),2)>5,$F728="Sí"),"P3",IF(OR(AND(HOUR(DATE(VALUE(LEFT($A728,4)),VALUE(MID($A728,6,2)),VALUE(MID($A728,9,2)))+TIME(VALUE(MID($A728,12,2)),0,0)-1/24)>=10,HOUR(DATE(VALUE(LEFT($A728,4)),VALUE(MID($A728,6,2)),VALUE(MID($A728,9,2)))+TIME(VALUE(MID($A728,12,2)),0,0)-1/24)<14),AND(HOUR(DATE(VALUE(LEFT($A728,4)),VALUE(MID($A728,6,2)),VALUE(MID($A728,9,2)))+TIME(VALUE(MID($A728,12,2)),0,0)-1/24)>=18,HOUR(DATE(VALUE(LEFT($A728,4)),VALUE(MID($A728,6,2)),VALUE(MID($A728,9,2)))+TIME(VALUE(MID($A728,12,2)),0,0)-1/24)<22)),"P1",IF(OR(AND(HOUR(DATE(VALUE(LEFT($A728,4)),VALUE(MID($A728,6,2)),VALUE(MID($A728,9,2)))+TIME(VALUE(MID($A728,12,2)),0,0)-1/24)>=8,HOUR(DATE(VALUE(LEFT($A728,4)),VALUE(MID($A728,6,2)),VALUE(MID($A728,9,2)))+TIME(VALUE(MID($A728,12,2)),0,0)-1/24)<10),AND(HOUR(DATE(VALUE(LEFT($A728,4)),VALUE(MID($A728,6,2)),VALUE(MID($A728,9,2)))+TIME(VALUE(MID($A728,12,2)),0,0)-1/24)>=14,HOUR(DATE(VALUE(LEFT($A728,4)),VALUE(MID($A728,6,2)),VALUE(MID($A728,9,2)))+TIME(VALUE(MID($A728,12,2)),0,0)-1/24)<18),AND(HOUR(DATE(VALUE(LEFT($A728,4)),VALUE(MID($A728,6,2)),VALUE(MID($A728,9,2)))+TIME(VALUE(MID($A728,12,2)),0,0)-1/24)>=22,HOUR(DATE(VALUE(LEFT($A728,4)),VALUE(MID($A728,6,2)),VALUE(MID($A728,9,2)))+TIME(VALUE(MID($A728,12,2)),0,0)-1/24)<24)),"P2","P3")))) | H728: =IF($A728="","",IF($G728="P1",$D728,0)) | I728: =IF($A728="","",IF($G728="P2",$D728,0)) | J728: =IF($A728="","",IF($G728="P3",$D728,0))
E729: =IF($A729="","",CHOOSE(WEEKDAY(INT(DATE(VALUE(LEFT($A729,4)),VALUE(MID($A729,6,2)),VALUE(MID($A729,9,2)))+TIME(VALUE(MID($A729,12,2)),0,0)-1/24),2),"Lunes","Martes","Miércoles","Jueves","Viernes","Sábado","Domingo")) | F729: =IF($A729="","",IF(COUNTIF(Festivos!$A$2:$A$50,INT(DATE(VALUE(LEFT($A729,4)),VALUE(MID($A729,6,2)),VALUE(MID($A729,9,2)))+TIME(VALUE(MID($A729,12,2)),0,0)-1/24))>0,"Sí","No")) | G729: =IF($A729="","",IF(OR(WEEKDAY(INT(DATE(VALUE(LEFT($A729,4)),VALUE(MID($A729,6,2)),VALUE(MID($A729,9,2)))+TIME(VALUE(MID($A729,12,2)),0,0)-1/24),2)>5,$F729="Sí"),"P3",IF(OR(AND(HOUR(DATE(VALUE(LEFT($A729,4)),VALUE(MID($A729,6,2)),VALUE(MID($A729,9,2)))+TIME(VALUE(MID($A729,12,2)),0,0)-1/24)>=10,HOUR(DATE(VALUE(LEFT($A729,4)),VALUE(MID($A729,6,2)),VALUE(MID($A729,9,2)))+TIME(VALUE(MID($A729,12,2)),0,0)-1/24)<14),AND(HOUR(DATE(VALUE(LEFT($A729,4)),VALUE(MID($A729,6,2)),VALUE(MID($A729,9,2)))+TIME(VALUE(MID($A729,12,2)),0,0)-1/24)>=18,HOUR(DATE(VALUE(LEFT($A729,4)),VALUE(MID($A729,6,2)),VALUE(MID($A729,9,2)))+TIME(VALUE(MID($A729,12,2)),0,0)-1/24)<22)),"P1",IF(OR(AND(HOUR(DATE(VALUE(LEFT($A729,4)),VALUE(MID($A729,6,2)),VALUE(MID($A729,9,2)))+TIME(VALUE(MID($A729,12,2)),0,0)-1/24)>=8,HOUR(DATE(VALUE(LEFT($A729,4)),VALUE(MID($A729,6,2)),VALUE(MID($A729,9,2)))+TIME(VALUE(MID($A729,12,2)),0,0)-1/24)<10),AND(HOUR(DATE(VALUE(LEFT($A729,4)),VALUE(MID($A729,6,2)),VALUE(MID($A729,9,2)))+TIME(VALUE(MID($A729,12,2)),0,0)-1/24)>=14,HOUR(DATE(VALUE(LEFT($A729,4)),VALUE(MID($A729,6,2)),VALUE(MID($A729,9,2)))+TIME(VALUE(MID($A729,12,2)),0,0)-1/24)<18),AND(HOUR(DATE(VALUE(LEFT($A729,4)),VALUE(MID($A729,6,2)),VALUE(MID($A729,9,2)))+TIME(VALUE(MID($A729,12,2)),0,0)-1/24)>=22,HOUR(DATE(VALUE(LEFT($A729,4)),VALUE(MID($A729,6,2)),VALUE(MID($A729,9,2)))+TIME(VALUE(MID($A729,12,2)),0,0)-1/24)<24)),"P2","P3")))) | H729: =IF($A729="","",IF($G729="P1",$D729,0)) | I729: =IF($A729="","",IF($G729="P2",$D729,0)) | J729: =IF($A729="","",IF($G729="P3",$D729,0))
E730: =IF($A730="","",CHOOSE(WEEKDAY(INT(DATE(VALUE(LEFT($A730,4)),VALUE(MID($A730,6,2)),VALUE(MID($A730,9,2)))+TIME(VALUE(MID($A730,12,2)),0,0)-1/24),2),"Lunes","Martes","Miércoles","Jueves","Viernes","Sábado","Domingo")) | F730: =IF($A730="","",IF(COUNTIF(Festivos!$A$2:$A$50,INT(DATE(VALUE(LEFT($A730,4)),VALUE(MID($A730,6,2)),VALUE(MID($A730,9,2)))+TIME(VALUE(MID($A730,12,2)),0,0)-1/24))>0,"Sí","No")) | G730: =IF($A730="","",IF(OR(WEEKDAY(INT(DATE(VALUE(LEFT($A730,4)),VALUE(MID($A730,6,2)),VALUE(MID($A730,9,2)))+TIME(VALUE(MID($A730,12,2)),0,0)-1/24),2)>5,$F730="Sí"),"P3",IF(OR(AND(HOUR(DATE(VALUE(LEFT($A730,4)),VALUE(MID($A730,6,2)),VALUE(MID($A730,9,2)))+TIME(VALUE(MID($A730,12,2)),0,0)-1/24)>=10,HOUR(DATE(VALUE(LEFT($A730,4)),VALUE(MID($A730,6,2)),VALUE(MID($A730,9,2)))+TIME(VALUE(MID($A730,12,2)),0,0)-1/24)<14),AND(HOUR(DATE(VALUE(LEFT($A730,4)),VALUE(MID($A730,6,2)),VALUE(MID($A730,9,2)))+TIME(VALUE(MID($A730,12,2)),0,0)-1/24)>=18,HOUR(DATE(VALUE(LEFT($A730,4)),VALUE(MID($A730,6,2)),VALUE(MID($A730,9,2)))+TIME(VALUE(MID($A730,12,2)),0,0)-1/24)<22)),"P1",IF(OR(AND(HOUR(DATE(VALUE(LEFT($A730,4)),VALUE(MID($A730,6,2)),VALUE(MID($A730,9,2)))+TIME(VALUE(MID($A730,12,2)),0,0)-1/24)>=8,HOUR(DATE(VALUE(LEFT($A730,4)),VALUE(MID($A730,6,2)),VALUE(MID($A730,9,2)))+TIME(VALUE(MID($A730,12,2)),0,0)-1/24)<10),AND(HOUR(DATE(VALUE(LEFT($A730,4)),VALUE(MID($A730,6,2)),VALUE(MID($A730,9,2)))+TIME(VALUE(MID($A730,12,2)),0,0)-1/24)>=14,HOUR(DATE(VALUE(LEFT($A730,4)),VALUE(MID($A730,6,2)),VALUE(MID($A730,9,2)))+TIME(VALUE(MID($A730,12,2)),0,0)-1/24)<18),AND(HOUR(DATE(VALUE(LEFT($A730,4)),VALUE(MID($A730,6,2)),VALUE(MID($A730,9,2)))+TIME(VALUE(MID($A730,12,2)),0,0)-1/24)>=22,HOUR(DATE(VALUE(LEFT($A730,4)),VALUE(MID($A730,6,2)),VALUE(MID($A730,9,2)))+TIME(VALUE(MID($A730,12,2)),0,0)-1/24)<24)),"P2","P3")))) | H730: =IF($A730="","",IF($G730="P1",$D730,0)) | I730: =IF($A730="","",IF($G730="P2",$D730,0)) | J730: =IF($A730="","",IF($G730="P3",$D730,0))
E731: =IF($A731="","",CHOOSE(WEEKDAY(INT(DATE(VALUE(LEFT($A731,4)),VALUE(MID($A731,6,2)),VALUE(MID($A731,9,2)))+TIME(VALUE(MID($A731,12,2)),0,0)-1/24),2),"Lunes","Martes","Miércoles","Jueves","Viernes","Sábado","Domingo")) | F731: =IF($A731="","",IF(COUNTIF(Festivos!$A$2:$A$50,INT(DATE(VALUE(LEFT($A731,4)),VALUE(MID($A731,6,2)),VALUE(MID($A731,9,2)))+TIME(VALUE(MID($A731,12,2)),0,0)-1/24))>0,"Sí","No")) | G731: =IF($A731="","",IF(OR(WEEKDAY(INT(DATE(VALUE(LEFT($A731,4)),VALUE(MID($A731,6,2)),VALUE(MID($A731,9,2)))+TIME(VALUE(MID($A731,12,2)),0,0)-1/24),2)>5,$F731="Sí"),"P3",IF(OR(AND(HOUR(DATE(VALUE(LEFT($A731,4)),VALUE(MID($A731,6,2)),VALUE(MID($A731,9,2)))+TIME(VALUE(MID($A731,12,2)),0,0)-1/24)>=10,HOUR(DATE(VALUE(LEFT($A731,4)),VALUE(MID($A731,6,2)),VALUE(MID($A731,9,2)))+TIME(VALUE(MID($A731,12,2)),0,0)-1/24)<14),AND(HOUR(DATE(VALUE(LEFT($A731,4)),VALUE(MID($A731,6,2)),VALUE(MID($A731,9,2)))+TIME(VALUE(MID($A731,12,2)),0,0)-1/24)>=18,HOUR(DATE(VALUE(LEFT($A731,4)),VALUE(MID($A731,6,2)),VALUE(MID($A731,9,2)))+TIME(VALUE(MID($A731,12,2)),0,0)-1/24)<22)),"P1",IF(OR(AND(HOUR(DATE(VALUE(LEFT($A731,4)),VALUE(MID($A731,6,2)),VALUE(MID($A731,9,2)))+TIME(VALUE(MID($A731,12,2)),0,0)-1/24)>=8,HOUR(DATE(VALUE(LEFT($A731,4)),VALUE(MID($A731,6,2)),VALUE(MID($A731,9,2)))+TIME(VALUE(MID($A731,12,2)),0,0)-1/24)<10),AND(HOUR(DATE(VALUE(LEFT($A731,4)),VALUE(MID($A731,6,2)),VALUE(MID($A731,9,2)))+TIME(VALUE(MID($A731,12,2)),0,0)-1/24)>=14,HOUR(DATE(VALUE(LEFT($A731,4)),VALUE(MID($A731,6,2)),VALUE(MID($A731,9,2)))+TIME(VALUE(MID($A731,12,2)),0,0)-1/24)<18),AND(HOUR(DATE(VALUE(LEFT($A731,4)),VALUE(MID($A731,6,2)),VALUE(MID($A731,9,2)))+TIME(VALUE(MID($A731,12,2)),0,0)-1/24)>=22,HOUR(DATE(VALUE(LEFT($A731,4)),VALUE(MID($A731,6,2)),VALUE(MID($A731,9,2)))+TIME(VALUE(MID($A731,12,2)),0,0)-1/24)<24)),"P2","P3")))) | H731: =IF($A731="","",IF($G731="P1",$D731,0)) | I731: =IF($A731="","",IF($G731="P2",$D731,0)) | J731: =IF($A731="","",IF($G731="P3",$D731,0))
E732: =IF($A732="","",CHOOSE(WEEKDAY(INT(DATE(VALUE(LEFT($A732,4)),VALUE(MID($A732,6,2)),VALUE(MID($A732,9,2)))+TIME(VALUE(MID($A732,12,2)),0,0)-1/24),2),"Lunes","Martes","Miércoles","Jueves","Viernes","Sábado","Domingo")) | F732: =IF($A732="","",IF(COUNTIF(Festivos!$A$2:$A$50,INT(DATE(VALUE(LEFT($A732,4)),VALUE(MID($A732,6,2)),VALUE(MID($A732,9,2)))+TIME(VALUE(MID($A732,12,2)),0,0)-1/24))>0,"Sí","No")) | G732: =IF($A732="","",IF(OR(WEEKDAY(INT(DATE(VALUE(LEFT($A732,4)),VALUE(MID($A732,6,2)),VALUE(MID($A732,9,2)))+TIME(VALUE(MID($A732,12,2)),0,0)-1/24),2)>5,$F732="Sí"),"P3",IF(OR(AND(HOUR(DATE(VALUE(LEFT($A732,4)),VALUE(MID($A732,6,2)),VALUE(MID($A732,9,2)))+TIME(VALUE(MID($A732,12,2)),0,0)-1/24)>=10,HOUR(DATE(VALUE(LEFT($A732,4)),VALUE(MID($A732,6,2)),VALUE(MID($A732,9,2)))+TIME(VALUE(MID($A732,12,2)),0,0)-1/24)<14),AND(HOUR(DATE(VALUE(LEFT($A732,4)),VALUE(MID($A732,6,2)),VALUE(MID($A732,9,2)))+TIME(VALUE(MID($A732,12,2)),0,0)-1/24)>=18,HOUR(DATE(VALUE(LEFT($A732,4)),VALUE(MID($A732,6,2)),VALUE(MID($A732,9,2)))+TIME(VALUE(MID($A732,12,2)),0,0)-1/24)<22)),"P1",IF(OR(AND(HOUR(DATE(VALUE(LEFT($A732,4)),VALUE(MID($A732,6,2)),VALUE(MID($A732,9,2)))+TIME(VALUE(MID($A732,12,2)),0,0)-1/24)>=8,HOUR(DATE(VALUE(LEFT($A732,4)),VALUE(MID($A732,6,2)),VALUE(MID($A732,9,2)))+TIME(VALUE(MID($A732,12,2)),0,0)-1/24)<10),AND(HOUR(DATE(VALUE(LEFT($A732,4)),VALUE(MID($A732,6,2)),VALUE(MID($A732,9,2)))+TIME(VALUE(MID($A732,12,2)),0,0)-1/24)>=14,HOUR(DATE(VALUE(LEFT($A732,4)),VALUE(MID($A732,6,2)),VALUE(MID($A732,9,2)))+TIME(VALUE(MID($A732,12,2)),0,0)-1/24)<18),AND(HOUR(DATE(VALUE(LEFT($A732,4)),VALUE(MID($A732,6,2)),VALUE(MID($A732,9,2)))+TIME(VALUE(MID($A732,12,2)),0,0)-1/24)>=22,HOUR(DATE(VALUE(LEFT($A732,4)),VALUE(MID($A732,6,2)),VALUE(MID($A732,9,2)))+TIME(VALUE(MID($A732,12,2)),0,0)-1/24)<24)),"P2","P3")))) | H732: =IF($A732="","",IF($G732="P1",$D732,0)) | I732: =IF($A732="","",IF($G732="P2",$D732,0)) | J732: =IF($A732="","",IF($G732="P3",$D732,0))
E733: =IF($A733="","",CHOOSE(WEEKDAY(INT(DATE(VALUE(LEFT($A733,4)),VALUE(MID($A733,6,2)),VALUE(MID($A733,9,2)))+TIME(VALUE(MID($A733,12,2)),0,0)-1/24),2),"Lunes","Martes","Miércoles","Jueves","Viernes","Sábado","Domingo")) | F733: =IF($A733="","",IF(COUNTIF(Festivos!$A$2:$A$50,INT(DATE(VALUE(LEFT($A733,4)),VALUE(MID($A733,6,2)),VALUE(MID($A733,9,2)))+TIME(VALUE(MID($A733,12,2)),0,0)-1/24))>0,"Sí","No")) | G733: =IF($A733="","",IF(OR(WEEKDAY(INT(DATE(VALUE(LEFT($A733,4)),VALUE(MID($A733,6,2)),VALUE(MID($A733,9,2)))+TIME(VALUE(MID($A733,12,2)),0,0)-1/24),2)>5,$F733="Sí"),"P3",IF(OR(AND(HOUR(DATE(VALUE(LEFT($A733,4)),VALUE(MID($A733,6,2)),VALUE(MID($A733,9,2)))+TIME(VALUE(MID($A733,12,2)),0,0)-1/24)>=10,HOUR(DATE(VALUE(LEFT($A733,4)),VALUE(MID($A733,6,2)),VALUE(MID($A733,9,2)))+TIME(VALUE(MID($A733,12,2)),0,0)-1/24)<14),AND(HOUR(DATE(VALUE(LEFT($A733,4)),VALUE(MID($A733,6,2)),VALUE(MID($A733,9,2)))+TIME(VALUE(MID($A733,12,2)),0,0)-1/24)>=18,HOUR(DATE(VALUE(LEFT($A733,4)),VALUE(MID($A733,6,2)),VALUE(MID($A733,9,2)))+TIME(VALUE(MID($A733,12,2)),0,0)-1/24)<22)),"P1",IF(OR(AND(HOUR(DATE(VALUE(LEFT($A733,4)),VALUE(MID($A733,6,2)),VALUE(MID($A733,9,2)))+TIME(VALUE(MID($A733,12,2)),0,0)-1/24)>=8,HOUR(DATE(VALUE(LEFT($A733,4)),VALUE(MID($A733,6,2)),VALUE(MID($A733,9,2)))+TIME(VALUE(MID($A733,12,2)),0,0)-1/24)<10),AND(HOUR(DATE(VALUE(LEFT($A733,4)),VALUE(MID($A733,6,2)),VALUE(MID($A733,9,2)))+TIME(VALUE(MID($A733,12,2)),0,0)-1/24)>=14,HOUR(DATE(VALUE(LEFT($A733,4)),VALUE(MID($A733,6,2)),VALUE(MID($A733,9,2)))+TIME(VALUE(MID($A733,12,2)),0,0)-1/24)<18),AND(HOUR(DATE(VALUE(LEFT($A733,4)),VALUE(MID($A733,6,2)),VALUE(MID($A733,9,2)))+TIME(VALUE(MID($A733,12,2)),0,0)-1/24)>=22,HOUR(DATE(VALUE(LEFT($A733,4)),VALUE(MID($A733,6,2)),VALUE(MID($A733,9,2)))+TIME(VALUE(MID($A733,12,2)),0,0)-1/24)<24)),"P2","P3")))) | H733: =IF($A733="","",IF($G733="P1",$D733,0)) | I733: =IF($A733="","",IF($G733="P2",$D733,0)) | J733: =IF($A733="","",IF($G733="P3",$D733,0))
E734: =IF($A734="","",CHOOSE(WEEKDAY(INT(DATE(VALUE(LEFT($A734,4)),VALUE(MID($A734,6,2)),VALUE(MID($A734,9,2)))+TIME(VALUE(MID($A734,12,2)),0,0)-1/24),2),"Lunes","Martes","Miércoles","Jueves","Viernes","Sábado","Domingo")) | F734: =IF($A734="","",IF(COUNTIF(Festivos!$A$2:$A$50,INT(DATE(VALUE(LEFT($A734,4)),VALUE(MID($A734,6,2)),VALUE(MID($A734,9,2)))+TIME(VALUE(MID($A734,12,2)),0,0)-1/24))>0,"Sí","No")) | G734: =IF($A734="","",IF(OR(WEEKDAY(INT(DATE(VALUE(LEFT($A734,4)),VALUE(MID($A734,6,2)),VALUE(MID($A734,9,2)))+TIME(VALUE(MID($A734,12,2)),0,0)-1/24),2)>5,$F734="Sí"),"P3",IF(OR(AND(HOUR(DATE(VALUE(LEFT($A734,4)),VALUE(MID($A734,6,2)),VALUE(MID($A734,9,2)))+TIME(VALUE(MID($A734,12,2)),0,0)-1/24)>=10,HOUR(DATE(VALUE(LEFT($A734,4)),VALUE(MID($A734,6,2)),VALUE(MID($A734,9,2)))+TIME(VALUE(MID($A734,12,2)),0,0)-1/24)<14),AND(HOUR(DATE(VALUE(LEFT($A734,4)),VALUE(MID($A734,6,2)),VALUE(MID($A734,9,2)))+TIME(VALUE(MID($A734,12,2)),0,0)-1/24)>=18,HOUR(DATE(VALUE(LEFT($A734,4)),VALUE(MID($A734,6,2)),VALUE(MID($A734,9,2)))+TIME(VALUE(MID($A734,12,2)),0,0)-1/24)<22)),"P1",IF(OR(AND(HOUR(DATE(VALUE(LEFT($A734,4)),VALUE(MID($A734,6,2)),VALUE(MID($A734,9,2)))+TIME(VALUE(MID($A734,12,2)),0,0)-1/24)>=8,HOUR(DATE(VALUE(LEFT($A734,4)),VALUE(MID($A734,6,2)),VALUE(MID($A734,9,2)))+TIME(VALUE(MID($A734,12,2)),0,0)-1/24)<10),AND(HOUR(DATE(VALUE(LEFT($A734,4)),VALUE(MID($A734,6,2)),VALUE(MID($A734,9,2)))+TIME(VALUE(MID($A734,12,2)),0,0)-1/24)>=14,HOUR(DATE(VALUE(LEFT($A734,4)),VALUE(MID($A734,6,2)),VALUE(MID($A734,9,2)))+TIME(VALUE(MID($A734,12,2)),0,0)-1/24)<18),AND(HOUR(DATE(VALUE(LEFT($A734,4)),VALUE(MID($A734,6,2)),VALUE(MID($A734,9,2)))+TIME(VALUE(MID($A734,12,2)),0,0)-1/24)>=22,HOUR(DATE(VALUE(LEFT($A734,4)),VALUE(MID($A734,6,2)),VALUE(MID($A734,9,2)))+TIME(VALUE(MID($A734,12,2)),0,0)-1/24)<24)),"P2","P3")))) | H734: =IF($A734="","",IF($G734="P1",$D734,0)) | I734: =IF($A734="","",IF($G734="P2",$D734,0)) | J734: =IF($A734="","",IF($G734="P3",$D734,0))
E735: =IF($A735="","",CHOOSE(WEEKDAY(INT(DATE(VALUE(LEFT($A735,4)),VALUE(MID($A735,6,2)),VALUE(MID($A735,9,2)))+TIME(VALUE(MID($A735,12,2)),0,0)-1/24),2),"Lunes","Martes","Miércoles","Jueves","Viernes","Sábado","Domingo")) | F735: =IF($A735="","",IF(COUNTIF(Festivos!$A$2:$A$50,INT(DATE(VALUE(LEFT($A735,4)),VALUE(MID($A735,6,2)),VALUE(MID($A735,9,2)))+TIME(VALUE(MID($A735,12,2)),0,0)-1/24))>0,"Sí","No")) | G735: =IF($A735="","",IF(OR(WEEKDAY(INT(DATE(VALUE(LEFT($A735,4)),VALUE(MID($A735,6,2)),VALUE(MID($A735,9,2)))+TIME(VALUE(MID($A735,12,2)),0,0)-1/24),2)>5,$F735="Sí"),"P3",IF(OR(AND(HOUR(DATE(VALUE(LEFT($A735,4)),VALUE(MID($A735,6,2)),VALUE(MID($A735,9,2)))+TIME(VALUE(MID($A735,12,2)),0,0)-1/24)>=10,HOUR(DATE(VALUE(LEFT($A735,4)),VALUE(MID($A735,6,2)),VALUE(MID($A735,9,2)))+TIME(VALUE(MID($A735,12,2)),0,0)-1/24)<14),AND(HOUR(DATE(VALUE(LEFT($A735,4)),VALUE(MID($A735,6,2)),VALUE(MID($A735,9,2)))+TIME(VALUE(MID($A735,12,2)),0,0)-1/24)>=18,HOUR(DATE(VALUE(LEFT($A735,4)),VALUE(MID($A735,6,2)),VALUE(MID($A735,9,2)))+TIME(VALUE(MID($A735,12,2)),0,0)-1/24)<22)),"P1",IF(OR(AND(HOUR(DATE(VALUE(LEFT($A735,4)),VALUE(MID($A735,6,2)),VALUE(MID($A735,9,2)))+TIME(VALUE(MID($A735,12,2)),0,0)-1/24)>=8,HOUR(DATE(VALUE(LEFT($A735,4)),VALUE(MID($A735,6,2)),VALUE(MID($A735,9,2)))+TIME(VALUE(MID($A735,12,2)),0,0)-1/24)<10),AND(HOUR(DATE(VALUE(LEFT($A735,4)),VALUE(MID($A735,6,2)),VALUE(MID($A735,9,2)))+TIME(VALUE(MID($A735,12,2)),0,0)-1/24)>=14,HOUR(DATE(VALUE(LEFT($A735,4)),VALUE(MID($A735,6,2)),VALUE(MID($A735,9,2)))+TIME(VALUE(MID($A735,12,2)),0,0)-1/24)<18),AND(HOUR(DATE(VALUE(LEFT($A735,4)),VALUE(MID($A735,6,2)),VALUE(MID($A735,9,2)))+TIME(VALUE(MID($A735,12,2)),0,0)-1/24)>=22,HOUR(DATE(VALUE(LEFT($A735,4)),VALUE(MID($A735,6,2)),VALUE(MID($A735,9,2)))+TIME(VALUE(MID($A735,12,2)),0,0)-1/24)<24)),"P2","P3")))) | H735: =IF($A735="","",IF($G735="P1",$D735,0)) | I735: =IF($A735="","",IF($G735="P2",$D735,0)) | J735: =IF($A735="","",IF($G735="P3",$D735,0))
... E5000: =IF($A5000="","",CHOOSE(WEEKDAY(INT(DATE(VALUE(LEFT($A5000,4)),VALUE(MID($A5000,6,2)),VALUE(MID($A5000,9,2)))+TIME(VALUE(MID($A5000,12,2)),0,0)-1/24),2),"Lunes","Martes","Miércoles","Jueves","Viernes","Sábado","Domingo")) | F5000: =IF($A5000="","",IF(COUNTIF(Festivos!$A$2:$A$50,INT(DATE(VALUE(LEFT($A5000,4)),VALUE(MID($A5000,6,2)),VALUE(MID($A5000,9,2)))+TIME(VALUE(MID($A5000,12,2)),0,0)-1/24))>0,"Sí","No")) | G5000: =IF($A5000="","",IF(OR(WEEKDAY(INT(DATE(VALUE(LEFT($A5000,4)),VALUE(MID($A5000,6,2)),VALUE(MID($A5000,9,2)))+TIME(VALUE(MID($A5000,12,2)),0,0)-1/24),2)>5,$F5000="Sí"),"P3",IF(OR(AND(HOUR(DATE(VALUE(LEFT($A5000,4)),VALUE(MID($A5000,6,2)),VALUE(MID($A5000,9,2)))+TIME(VALUE(MID($A5000,12,2)),0,0)-1/24)>=10,HOUR(DATE(VALUE(LEFT($A5000,4)),VALUE(MID($A5000,6,2)),VALUE(MID($A5000,9,2)))+TIME(VALUE(MID($A5000,12,2)),0,0)-1/24)<14),AND(HOUR(DATE(VALUE(LEFT($A5000,4)),VALUE(MID($A5000,6,2)),VALUE(MID($A5000,9,2)))+TIME(VALUE(MID($A5000,12,2)),0,0)-1/24)>=18,HOUR(DATE(VALUE(LEFT($A5000,4)),VALUE(MID($A5000,6,2)),VALUE(MID($A5000,9,2)))+TIME(VALUE(MID($A5000,12,2)),0,0)-1/24)<22)),"P1",IF(OR(AND(HOUR(DATE(VALUE(LEFT($A5000,4)),VALUE(MID($A5000,6,2)),VALUE(MID($A5000,9,2)))+TIME(VALUE(MID($A5000,12,2)),0,0)-1/24)>=8,HOUR(DATE(VALUE(LEFT($A5000,4)),VALUE(MID($A5000,6,2)),VALUE(MID($A5000,9,2)))+TIME(VALUE(MID($A5000,12,2)),0,0)-1/24)<10),AND(HOUR(DATE(VALUE(LEFT($A5000,4)),VALUE(MID($A5000,6,2)),VALUE(MID($A5000,9,2)))+TIME(VALUE(MID($A5000,12,2)),0,0)-1/24)>=14,HOUR(DATE(VALUE(LEFT($A5000,4)),VALUE(MID($A5000,6,2)),VALUE(MID($A5000,9,2)))+TIME(VALUE(MID($A5000,12,2)),0,0)-1/24)<18),AND(HOUR(DATE(VALUE(LEFT($A5000,4)),VALUE(MID($A5000,6,2)),VALUE(MID($A5000,9,2)))+TIME(VALUE(MID($A5000,12,2)),0,0)-1/24)>=22,HOUR(DATE(VALUE(LEFT($A5000,4)),VALUE(MID($A5000,6,2)),VALUE(MID($A5000,9,2)))+TIME(VALUE(MID($A5000,12,2)),0,0)-1/24)<24)),"P2","P3")))) | H5000: =IF($A5000="","",IF($G5000="P1",$D5000,0)) | I5000: =IF($A5000="","",IF($G5000="P2",$D5000,0)) | J5000: =IF($A5000="","",IF($G5000="P3",$D5000,0))

Sheet Festivos
A1: FECHA | B1: FESTIVO | C1: NOTA | E1: INSTRUCCIONES
A2: 46023 | B2: Año Nuevo | C2: Nacional no sustituible | E2: Puedes añadir manualmente nuevos festivos en la columna A.
A3: 46028 | B3: Epifanía del Señor | C3: Se considera P3 expresamente en la tarifa | E3: La hoja Horarias detecta automáticamente cualquier fecha incluida aquí.
A4: 46143 | B4: Fiesta del Trabajo | C4: Nacional no sustituible | E4: Para la tarifa 2.0TD, sábados y domingos también se consideran P3.
A5: 46249 | B5: Asunción de la Virgen | C5: Nacional no sustituible
A6: 46307 | B6: Fiesta Nacional de España | C6: Nacional no sustituible
A7: 46362 | B7: Día de la Constitución Española | C7: Fecha fija; en 2026 cae domingo
A8: 46364 | B8: Inmaculada Concepción | C8: Nacional no sustituible
A9: 46381 | B9: Natividad del Señor | C9: Nacional no sustituible

Sheet Resumen
A1: RESUMEN GENERACIÓN POR PERIODO | D1: 1 PANEL | E1: 2 PANEL. | F1: 3 PANEL. | G1: 4 PANEL.
A2: PERIODO | B2: TOTAL Wh | C2: TOTAL kWh | D2: 0.0041645 | E2: 0.0083291 | F2: 0.0124937 | G2: 0.0166583
A3: P1 | B3: =SUM(Horarias!H4:H5000) -> 5242520 | C3: =B3/1000 -> 5242.52 | D3: =+$C3*D$2 -> 21.832475 | E3: =+$C3*E$2 -> 43.665473 | F3: =+ROUND(+C3*$F2,2) -> 65.5 | G3: =+ROUND(+C3*$G$2,2) -> 87.33
A4: P2 | B4: =SUM(Horarias!I4:I5000) -> 5293080 | C4: =B4/1000 -> 5293.08 | D4: =+C4*D$2 -> 22.043032 | E4: =+$C4*E$2 -> 44.086593 | F4: =+ROUND(+C4*$F$2,2) -> 66.13 | G4: =+ROUND(+C4*$G$2,2) -> 88.17
A5: P3 | B5: =SUM(Horarias!J4:J5000) -> 4153480 | C5: =B5/1000 -> 4153.48 | D5: =+C5*D$2 -> 17.297167 | E5: =+$C5*E$2 -> 34.59475 | F5: =+ROUND(+C5*$F$2,2) -> 51.89 | G5: =+ROUND(+C5*$G$2,2) -> 69.19
A6: TOTAL | B6: =SUM(B3:B5) -> 14689080 | C6: =B6/1000 -> 14689.08 | D6: =SUM(D3:D5) -> 61.172674 | E6: =SUM(E3:E5) -> 122.34682 | F6: =SUM(F3:F5) -> 183.52 | G6: =SUM(G3:G5) -> 244.69
